BEGIN:VCALENDAR
VERSION:2.0
PRODID:-//Musical Theatre Village - ECPv6.15.20//NONSGML v1.0//EN
CALSCALE:GREGORIAN
METHOD:PUBLISH
X-ORIGINAL-URL:https://musicaltheatrevillage.net
X-WR-CALDESC:Events for Musical Theatre Village
REFRESH-INTERVAL;VALUE=DURATION:PT1H
X-Robots-Tag:noindex
X-PUBLISHED-TTL:PT1H
BEGIN:VTIMEZONE
TZID:America/Los_Angeles
BEGIN:DAYLIGHT
TZOFFSETFROM:-0800
TZOFFSETTO:-0700
TZNAME:PDT
DTSTART:20240310T100000
END:DAYLIGHT
BEGIN:STANDARD
TZOFFSETFROM:-0700
TZOFFSETTO:-0800
TZNAME:PST
DTSTART:20241103T090000
END:STANDARD
BEGIN:DAYLIGHT
TZOFFSETFROM:-0800
TZOFFSETTO:-0700
TZNAME:PDT
DTSTART:20250309T100000
END:DAYLIGHT
BEGIN:STANDARD
TZOFFSETFROM:-0700
TZOFFSETTO:-0800
TZNAME:PST
DTSTART:20251102T090000
END:STANDARD
BEGIN:DAYLIGHT
TZOFFSETFROM:-0800
TZOFFSETTO:-0700
TZNAME:PDT
DTSTART:20260308T100000
END:DAYLIGHT
BEGIN:STANDARD
TZOFFSETFROM:-0700
TZOFFSETTO:-0800
TZNAME:PST
DTSTART:20261101T090000
END:STANDARD
END:VTIMEZONE
BEGIN:VEVENT
DTSTART;TZID=America/Los_Angeles:20250829T193000
DTEND;TZID=America/Los_Angeles:20250928T193000
DTSTAMP:20260423T154641
CREATED:20241230T215050Z
LAST-MODIFIED:20241230T215801Z
UID:3390-1756495800-1759087800@musicaltheatrevillage.net
SUMMARY:Footloose!
DESCRIPTION:Auditions 7/21 – 7/23/25\nPerformances 8/29 – 9/28/25
URL:https://musicaltheatrevillage.net/event/footloose/
LOCATION:Musical Theatre Village\, 36 Mauchly STE C\, Irvine\, CA\, 92618\, United States
END:VEVENT
BEGIN:VEVENT
DTSTART;TZID=America/Los_Angeles:20250711T193000
DTEND;TZID=America/Los_Angeles:20250810T140000
DTSTAMP:20260423T154641
CREATED:20241230T214926Z
LAST-MODIFIED:20241230T215820Z
UID:3388-1752262200-1754834400@musicaltheatrevillage.net
SUMMARY:You're a Good Man\, Charlie Brown!
DESCRIPTION:Auditions 6/2 – 6/4/25\nPerformances 7/11 – 8/10/25
URL:https://musicaltheatrevillage.net/event/youre-a-good-man-charlie-brown/
LOCATION:Musical Theatre Village\, 36 Mauchly STE C\, Irvine\, CA\, 92618\, United States
END:VEVENT
BEGIN:VEVENT
DTSTART;TZID=America/Los_Angeles:20250523T193000
DTEND;TZID=America/Los_Angeles:20250622T193000
DTSTAMP:20260423T154641
CREATED:20241230T214757Z
LAST-MODIFIED:20241230T215843Z
UID:3386-1748028600-1750620600@musicaltheatrevillage.net
SUMMARY:Bye Bye Birdie
DESCRIPTION:Auditions 4/14 – 4/16/25\nPerformances 5/23 – 6/22/25\nNo performance 6/15/25
URL:https://musicaltheatrevillage.net/event/bye-bye-birdie/
LOCATION:Musical Theatre Village\, 36 Mauchly STE C\, Irvine\, CA\, 92618\, United States
END:VEVENT
BEGIN:VEVENT
DTSTART;TZID=America/Los_Angeles:20250404T193000
DTEND;TZID=America/Los_Angeles:20250427T140000
DTSTAMP:20260423T154641
CREATED:20241230T214544Z
LAST-MODIFIED:20241230T215907Z
UID:3383-1743795000-1745762400@musicaltheatrevillage.net
SUMMARY:Promised Land
DESCRIPTION:Auditions 2/24 – 2/26/25\nPerformances 4/4 – 4/27/25
URL:https://musicaltheatrevillage.net/event/promised-land/
LOCATION:Musical Theatre Village\, 36 Mauchly STE C\, Irvine\, CA\, 92618\, United States
END:VEVENT
BEGIN:VEVENT
DTSTART;TZID=America/Los_Angeles:20250215T193000
DTEND;TZID=America/Los_Angeles:20250315T140000
DTSTAMP:20260423T154641
CREATED:20241230T212553Z
LAST-MODIFIED:20241230T215925Z
UID:3381-1739647800-1742047200@musicaltheatrevillage.net
SUMMARY:Mary Poppins
DESCRIPTION:Performances 2/15 – 3/17/25
URL:https://musicaltheatrevillage.net/event/mary-poppins/
LOCATION:Musical Theatre Village\, 36 Mauchly STE C\, Irvine\, CA\, 92618\, United States
END:VEVENT
END:VCALENDAR